Felt | Verdi |
AlreadyApplied | True |
AutoLateralCA | 0 |
BitsPerSample | 8 |
Blacks2012 | -62 |
BlueHue | 0 |
BlueSaturation | 0 |
CameraProfile | Embedded |
Clarity2012 | -2 |
ColorComponents | 3 |
ColorNoiseReduction | 25 |
ColorNoiseReductionDetail | 50 |
ColorSpace | sRGB |
ColorTransform | YCbCr |
Contrast2012 | -21 |
ConvertToGrayscale | False |
CreateDate (1) | 2013:05:10 18:24:08+02:00 |
CreateDate | 2013:05:10 18:24:08 |
CreatorTool | Adobe Photoshop Lightroom 4.1 (Windows) |
DefringeGreenAmount | 0 |
DefringeGreenHueHi | 60 |
DefringeGreenHueLo | 40 |
DefringePurpleAmount | 0 |
DefringePurpleHueHi | 70 |
DefringePurpleHueLo | 30 |
Exposure2012 | +0.71 |
Format | image/jpeg |
GrainAmount | 0 |
GreenHue | 0 |
GreenSaturation | 0 |
HasCrop | False |
HasSettings | True |
Highlights2012 | -90 |
HueAdjustmentAqua | 0 |
HueAdjustmentBlue | 0 |
HueAdjustmentGreen | 0 |
HueAdjustmentMagenta | 0 |
HueAdjustmentOrange | 0 |
HueAdjustmentPurple | 0 |
HueAdjustmentRed | 0 |
HueAdjustmentYellow | 0 |
ImageHeight | 2953 |
ImageSize | 4330x2953 |
ImageWidth | 4330 |
IncrementalTemperature | +5 |
IncrementalTint | -19 |
Keywords | 2012, F3, barn, dias, ferie, france, lek, provence, sol, sommer |
Label | Yellow |
LensManualDistortionAmount | 0 |
LensProfileEnable | 0 |
LensProfileSetup | LensDefaults |
LuminanceAdjustmentAqua | 0 |
LuminanceAdjustmentBlue | +10 |
LuminanceAdjustmentGreen | +1 |
LuminanceAdjustmentMagenta | +14 |
LuminanceAdjustmentOrange | 0 |
LuminanceAdjustmentPurple | +26 |
LuminanceAdjustmentRed | +11 |
LuminanceAdjustmentYellow | +11 |
LuminanceSmoothing | 0 |
Megapixels | 12.8 |
ModifyDate (1) | 2013:08:07 18:42:52+02:00 |
ModifyDate | 2013:08:07 18:42:52 |
PaintCorrectionActive | true |
PaintCorrectionAmount | 1.000000 |
PaintCorrectionBrightness | 0.000000 |
PaintCorrectionClarity2012 (1) | 0.000000 |
PaintCorrectionClarity2012 | 0.238100 |
PaintCorrectionContrast2012 (1) | -0.333330 |
PaintCorrectionContrast2012 | 0.452380 |
PaintCorrectionDefringe | 0.000000 |
PaintCorrectionExposure2012 (1) | 0.500000 |
PaintCorrectionExposure2012 | 0.071500 |
PaintCorrectionHighlights2012 (1) | -0.357140 |
PaintCorrectionHighlights2012 | 0.000000 |
PaintCorrectionHue | 0.000000 |
PaintCorrectionLuminanceNoise | 0.000000 |
PaintCorrectionMaskCenterWeight | 0.000000 |
PaintCorrectionMaskFlow | 1.000000 |
PaintCorrectionMaskRadius (1) | 0.121705 |
PaintCorrectionMaskRadius (19) | 0.042733 |
PaintCorrectionMaskRadius (2) | 0.059250 |
PaintCorrectionMaskRadius (21) | 0.034695 |
PaintCorrectionMaskRadius (28) | 0.014401 |
PaintCorrectionMaskRadius (32) | 0.010371 |
PaintCorrectionMaskRadius (35) | 0.006543 |
PaintCorrectionMaskRadius (41) | 0.007796 |
PaintCorrectionMaskRadius (7) | 0.050918 |
PaintCorrectionMaskRadius | 0.005312 |
PaintCorrectionMaskValue (23) | 0.000000 |
PaintCorrectionMaskValue | 1.000000 |
PaintCorrectionMaskWhat | Mask/Paint |
PaintCorrectionMoire | 0.000000 |
PaintCorrectionSaturation (1) | 0.119050 |
PaintCorrectionSaturation (3) | 0.500000 |
PaintCorrectionSaturation | 0.000000 |
PaintCorrectionShadows2012 | 0.000000 |
PaintCorrectionSharpness | 0.000000 |
PaintCorrectionTemperature | 0.000000 |
PaintCorrectionTint (1) | 0.000000 |
PaintCorrectionTint | -0.357140 |
PaintCorrectionWhat | Correction |
ParametricDarks | 0 |
ParametricHighlights | +60 |
ParametricHighlightSplit | 75 |
ParametricLights | +10 |
ParametricMidtoneSplit | 50 |
ParametricShadows | 0 |
ParametricShadowSplit | 25 |
PerspectiveHorizontal | 0 |
PerspectiveRotate | 0.0 |
PerspectiveScale | 100 |
PerspectiveVertical | 0 |
PostCropVignetteAmount | -10 |
PostCropVignetteFeather | 50 |
PostCropVignetteHighlightContrast | 0 |
PostCropVignetteMidpoint | 50 |
PostCropVignetteRoundness | 0 |
PostCropVignetteStyle | 1 |
ProcessVersion | 6.7 |
ProfileDescription | sRGB IEC61966-2.1 |
Rating | 4 |
RedHue | 0 |
RedSaturation | 0 |
Saturation | +2 |
SaturationAdjustmentAqua | +50 |
SaturationAdjustmentBlue | +58 |
SaturationAdjustmentGreen | +8 |
SaturationAdjustmentMagenta | 0 |
SaturationAdjustmentOrange | +15 |
SaturationAdjustmentPurple | +23 |
SaturationAdjustmentRed | 0 |
SaturationAdjustmentYellow | +49 |
Shadows2012 | +64 |
ShadowTint | 0 |
SharpenDetail | 48 |
SharpenEdgeMasking | 31 |
SharpenRadius | +1.0 |
Sharpness | 62 |
Software | Adobe Photoshop Lightroom 4.1 (Windows) |
SplitToningBalance | 0 |
SplitToningHighlightHue | 0 |
SplitToningHighlightSaturation | 0 |
SplitToningShadowHue | 0 |
SplitToningShadowSaturation | 0 |
Subject | 2012, F3, barn, dias, ferie, france, lek, provence, sol, sommer |
ToneCurveName2012 | Linear |
ToneCurvePV2012 | 0, 0, 255, 255 |
ToneCurvePV2012Blue | 0, 0, 255, 255 |
ToneCurvePV2012Green | 0, 0, 255, 255 |
ToneCurvePV2012Red | 0, 0, 255, 255 |
Version | 7.1 |
Vibrance | -19 |
VignetteAmount | -48 |
VignetteMidpoint | 50 |
WhiteBalance | Custom |
Whites2012 | -93 |