Felt | Verdi |
AlreadyApplied | True |
Aperture | 7.1 |
ApertureValue | 7.1 |
ApproximateFocusDistance | 1.5 |
AutoLateralCA | 1 |
AutoWhiteVersion | 134348800 |
BitsPerSample | 8 |
Blacks2012 | -21 |
BlueHue | 0 |
BlueSaturation | 0 |
CameraProfile | Camera Landscape |
CircleOfConfusion | 0.005 mm |
Clarity2012 | +9 |
ColorComponents | 3 |
ColorNoiseReduction | 25 |
ColorNoiseReductionDetail | 50 |
ColorNoiseReductionSmoothness | 50 |
ColorSpace | sRGB |
ColorTemperature | 7401 |
ColorTransform | YCbCr |
Contrast2012 | +21 |
ConvertToGrayscale | False |
CreateDate (1) | 2016:01:15 16:00:06.28 |
CreateDate | 2016:01:15 16:00:06 |
CreatorTool | Adobe Photoshop Lightroom 5.6 (Macintosh) |
CropAngle | 0.950029 |
CropBottom | 0.972261 |
CropConstrainToWarp | 1 |
CropLeft | 0.023672 |
CropRight | 0.960334 |
CropTop | 0.00157 |
CustomRendered | Normal |
DateCreated (1) | 2016:01:15 |
DateCreated | 2016:01:15 16:00:06.28 |
DateTimeOriginal | 2016:01:15 16:00:06 |
DefringeGreenAmount | 0 |
DefringeGreenHueHi | 60 |
DefringeGreenHueLo | 40 |
DefringePurpleAmount | 0 |
DefringePurpleHueHi | 70 |
DefringePurpleHueLo | 30 |
DOF | 2.29 m (0.97 - 3.26 m) |
Exposure2012 | +0.60 |
ExposureCompensation | 0 |
ExposureMode | Auto |
ExposureProgram | Aperture-priority AE |
ExposureTime | 1/40 |
Firmware | 1.1.1 |
Flash | Off, Did not fire |
FlashCompensation | 0 |
FNumber | 7.1 |
FocalLength | 10.0 mm |
FocalLength35efl | 10.0 mm (35 mm equivalent: 58.9 mm) |
Format | image/jpeg |
FOV | 34.0 deg |
GradientBasedCorrActive | true |
GradientBasedCorrAmount | 1.000000 |
GradientBasedCorrBrightness | 0.000000 |
GradientBasedCorrClarity2012 | 0.000000 |
GradientBasedCorrContrast2012 | 0.000000 |
GradientBasedCorrDefringe | 0.000000 |
GradientBasedCorrExposure2012 | -0.196429 |
GradientBasedCorrHighlights2012 | -0.203334 |
GradientBasedCorrHue | 18.492201 |
GradientBasedCorrLuminanceNoise | 0.000000 |
GradientBasedCorrMaskFullX | 0.478980 |
GradientBasedCorrMaskFullY | 0.033342 |
GradientBasedCorrMaskValue | 1.000000 |
GradientBasedCorrMaskWhat | Mask/Gradient |
GradientBasedCorrMaskZeroX | 0.489253 |
GradientBasedCorrMaskZeroY | 0.656395 |
GradientBasedCorrMoire | 0.000000 |
GradientBasedCorrSaturation | 0.000000 |
GradientBasedCorrShadows2012 | 0.158901 |
GradientBasedCorrSharpness | 0.000000 |
GradientBasedCorrTemperature | 0.000000 |
GradientBasedCorrTint | 0.000000 |
GradientBasedCorrWhat | Correction |
GrainAmount | 0 |
GreenHue | 0 |
GreenSaturation | 0 |
HasCrop | True |
HasExtendedXMP | 57F1F4F4BBDE0950935BD210A99B379E |
HasSettings | True |
Highlights2012 | 0 |
HueAdjustmentAqua | 0 |
HueAdjustmentBlue | 0 |
HueAdjustmentGreen | 0 |
HueAdjustmentMagenta | 0 |
HueAdjustmentOrange | 0 |
HueAdjustmentPurple | 0 |
HueAdjustmentRed | 0 |
HueAdjustmentYellow | 0 |
HyperfocalDistance | 2.76 m |
ImageHeight | 1000 |
ImageNumber | 0 |
ImageSize | 1500x1000 |
ImageWidth | 1500 |
ISO | 400 |
Lens | EF-S10-18mm f/4.5-5.6 IS STM |
LensID (1) | 4150 |
LensID | Canon EF-S 10-18mm f/4.5-5.6 IS STM |
LensInfo | 10-18mm f/? |
LensManualDistortionAmount | 0 |
LensModel | EF-S10-18mm f/4.5-5.6 IS STM |
LensProfileChromaticAberrationScale | 100 |
LensProfileDistortionScale | 100 |
LensProfileEnable | 1 |
LensProfileFilename | Canon EOS 50D (Canon EF-S 10-18mm f4.5-5.6 IS STM) - RAW.lcp |
LensProfileName | Adobe (Canon EF-S 10-18mm f/4.5-5.6 IS STM) |
LensProfileSetup | LensDefaults |
LensProfileVignettingScale | 100 |
LensSerialNumber | 000003356f |
LightValue | 9.0 |
LuminanceAdjustmentAqua | -5 |
LuminanceAdjustmentBlue | +13 |
LuminanceAdjustmentGreen | -18 |
LuminanceAdjustmentMagenta | -7 |
LuminanceAdjustmentOrange | -15 |
LuminanceAdjustmentPurple | +9 |
LuminanceAdjustmentRed | -16 |
LuminanceAdjustmentYellow | -25 |
LuminanceNoiseReductionContrast | 0 |
LuminanceNoiseReductionDetail | 50 |
LuminanceSmoothing | 15 |
Make | Canon |
MaxApertureValue | 4.6 |
Megapixels | 1.5 |
MeteringMode | Spot |
Model | Canon EOS 70D |
ModifyDate (1) | 2016:01:16 13:25:29+01:00 |
ModifyDate | 2016:01:16 13:25:29 |
PaintCorrectionActive | true |
PaintCorrectionAmount | 1.000000 |
PaintCorrectionBrightness | 0.000000 |
PaintCorrectionClarity2012 | 0.000000 |
PaintCorrectionContrast2012 | 0.000000 |
PaintCorrectionDefringe | 0.000000 |
PaintCorrectionExposure2012 | 1.000000 |
PaintCorrectionHighlights2012 | 0.000000 |
PaintCorrectionHue | 18.492201 |
PaintCorrectionLuminanceNoise | 0.000000 |
PaintCorrectionMaskCenterWeight (18) | 0.004462 |
PaintCorrectionMaskCenterWeight | 0.036930 |
PaintCorrectionMaskFlow | 1.000000 |
PaintCorrectionMaskRadius (1) | 0.011222 |
PaintCorrectionMaskRadius (11) | 0.001928 |
PaintCorrectionMaskRadius (15) | 0.001947 |
PaintCorrectionMaskRadius (17) | 0.002089 |
PaintCorrectionMaskRadius (19) | 0.002087 |
PaintCorrectionMaskRadius (2) | 0.006275 |
PaintCorrectionMaskRadius (22) | 0.002097 |
PaintCorrectionMaskRadius (23) | 0.002099 |
PaintCorrectionMaskRadius (24) | 0.002100 |
PaintCorrectionMaskRadius (25) | 0.005504 |
PaintCorrectionMaskRadius (26) | 0.005430 |
PaintCorrectionMaskRadius (27) | 0.005431 |
PaintCorrectionMaskRadius (28) | 0.005452 |
PaintCorrectionMaskRadius (29) | 0.002092 |
PaintCorrectionMaskRadius (3) | 0.006331 |
PaintCorrectionMaskRadius (30) | 0.002091 |
PaintCorrectionMaskRadius (31) | 0.002094 |
PaintCorrectionMaskRadius (35) | 0.004970 |
PaintCorrectionMaskRadius (36) | 0.001898 |
PaintCorrectionMaskRadius (37) | 0.002061 |
PaintCorrectionMaskRadius (38) | 0.002060 |
PaintCorrectionMaskRadius (39) | 0.000557 |
PaintCorrectionMaskRadius (4) | 0.006245 |
PaintCorrectionMaskRadius (40) | 0.001893 |
PaintCorrectionMaskRadius (41) | 0.000561 |
PaintCorrectionMaskRadius (42) | 0.002079 |
PaintCorrectionMaskRadius (43) | 0.000563 |
PaintCorrectionMaskRadius (44) | 0.001913 |
PaintCorrectionMaskRadius (45) | 0.001901 |
PaintCorrectionMaskRadius (47) | 0.001927 |
PaintCorrectionMaskRadius (48) | 0.001916 |
PaintCorrectionMaskRadius (5) | 0.006257 |
PaintCorrectionMaskRadius (50) | 0.001948 |
PaintCorrectionMaskRadius (53) | 0.001944 |
PaintCorrectionMaskRadius (54) | 0.001945 |
PaintCorrectionMaskRadius (57) | 0.001946 |
PaintCorrectionMaskRadius (6) | 0.006255 |
PaintCorrectionMaskRadius (62) | 0.001932 |
PaintCorrectionMaskRadius (63) | 0.001941 |
PaintCorrectionMaskRadius (7) | 0.001912 |
PaintCorrectionMaskRadius (9) | 0.001931 |
PaintCorrectionMaskRadius | 0.001924 |
PaintCorrectionMaskValue (38) | 0.000000 |
PaintCorrectionMaskValue | 0.192674 |
PaintCorrectionMaskWhat | Mask/Paint |
PaintCorrectionMoire | 0.000000 |
PaintCorrectionSaturation | 0.000000 |
PaintCorrectionShadows2012 | 0.000000 |
PaintCorrectionSharpness | 0.000000 |
PaintCorrectionTemperature | 0.000000 |
PaintCorrectionTint | 0.000000 |
PaintCorrectionWhat | Correction |
ParametricDarks | -8 |
ParametricHighlights | +4 |
ParametricHighlightSplit | 75 |
ParametricLights | +13 |
ParametricMidtoneSplit | 49 |
ParametricShadows | -5 |
ParametricShadowSplit | 25 |
PerspectiveAspect | 0 |
PerspectiveHorizontal | 0 |
PerspectiveRotate | 0.0 |
PerspectiveScale | 100 |
PerspectiveUpright | 1 |
PerspectiveVertical | 0 |
PostCropVignetteAmount | -16 |
PostCropVignetteFeather | 50 |
PostCropVignetteHighlightContrast | 0 |
PostCropVignetteMidpoint | 48 |
PostCropVignetteRoundness | 0 |
PostCropVignetteStyle | 1 |
ProcessVersion | 6.7 |
ProfileDescription | sRGB IEC61966-2.1 |
RecommendedExposureIndex | 400 |
RedHue | 0 |
RedSaturation | 0 |
Saturation | +10 |
SaturationAdjustmentAqua | 0 |
SaturationAdjustmentBlue | +20 |
SaturationAdjustmentGreen | +20 |
SaturationAdjustmentMagenta | 0 |
SaturationAdjustmentOrange | +2 |
SaturationAdjustmentPurple | 0 |
SaturationAdjustmentRed | 0 |
SaturationAdjustmentYellow | +21 |
ScaleFactor35efl | 5.9 |
SceneCaptureType | Standard |
SensitivityType | Recommended Exposure Index |
SerialNumber | 113026007595 |
Shadows2012 | 0 |
ShadowTint | 0 |
SharpenDetail | 35 |
SharpenEdgeMasking | 15 |
SharpenRadius | +0.8 |
Sharpness | 61 |
ShutterSpeed | 1/40 |
ShutterSpeedValue | 1/40 |
Software | Adobe Photoshop Lightroom 5.6 (Macintosh) |
SplitToningBalance | 0 |
SplitToningHighlightHue | 0 |
SplitToningHighlightSaturation | 0 |
SplitToningShadowHue | 0 |
SplitToningShadowSaturation | 0 |
Tint | 0 |
ToneCurve | 0, 0, 255, 255 |
ToneCurveBlue | 0, 0, 255, 255 |
ToneCurveGreen | 0, 0, 255, 255 |
ToneCurveName | Linear |
ToneCurveName2012 | Linear |
ToneCurvePV2012 | 0, 0, 255, 255 |
ToneCurvePV2012Blue | 0, 0, 255, 255 |
ToneCurvePV2012Green | 0, 0, 255, 255 |
ToneCurvePV2012Red | 0, 0, 255, 255 |
ToneCurveRed | 0, 0, 255, 255 |
Version | 8.6 |
Vibrance | +16 |
VignetteAmount | 0 |
WhiteBalance (1) | Custom |
WhiteBalance | Manual |
Whites2012 | +10 |