Felt | Verdi |
AbsoluteAltitude | +1.20 |
AlreadyApplied | True |
Aperture | 2.8 |
ApertureValue | 2.8 |
AutoLateralCA | 0 |
BitsPerSample | 8 |
Blacks2012 | -24 |
BlueHue | -19 |
BlueSaturation | -28 |
CameraProfile | Embedded |
CamReverse | 0 |
CircleOfConfusion | 0.006 mm |
Clarity2012 | +1 |
ColorComponents | 3 |
ColorNoiseReduction | 25 |
ColorNoiseReductionDetail | 50 |
ColorNoiseReductionSmoothness | 50 |
ColorSpace | sRGB |
ColorTemperature | 9600 |
ColorTransform | YCbCr |
Contrast | Normal |
Contrast2012 | -19 |
ConvertToGrayscale | False |
CreateDate | 2019:01:12 15:19:31 |
CreatorTool | Adobe Photoshop Lightroom Classic 7.5 (Macintosh) |
CustomRendered | Normal |
DateCreated (1) | 2019:01:12 |
DateCreated | 2019:01:12 15:19:31 |
DateTimeOriginal | 2019:01:12 15:19:31 |
DefringeGreenAmount | 0 |
DefringeGreenHueHi | 60 |
DefringeGreenHueLo | 40 |
DefringePurpleAmount | 0 |
DefringePurpleHueHi | 70 |
DefringePurpleHueLo | 30 |
Dehaze | +4 |
DistortionCorrectionAlreadyApplied | True |
Exposure2012 | -0.22 |
ExposureCompensation | 0 |
ExposureMode | Auto |
ExposureProgram | Program AE |
ExposureTime | 1/40 |
Flash | No flash function |
FlightPitchDegree | +1.00 |
FlightRollDegree | +3.70 |
FlightYawDegree | -139.30 |
FNumber | 2.8 |
FocalLength | 4.5 mm |
FocalLength35efl | 4.5 mm (35 mm equivalent: 24.0 mm) |
FocalLengthIn35mmFormat | 24 mm |
Format | image/jpeg |
FOV | 73.7 deg |
GainControl | None |
GimbalPitchDegree | -89.90 |
GimbalReverse | 0 |
GimbalRollDegree | +0.00 |
GimbalYawDegree | -139.30 |
GPSAltitude (1) | 117.1 m |
GPSAltitude | 117.1 m Above Sea Level |
GPSAltitudeRef | Above Sea Level |
GPSLatitude (1) | 61 deg 15' 37.33" |
GPSLatitude | 61 deg 15' 37.33" N |
GPSLatitudeRef | North |
GPSLongitude (1) | 11 deg 19' 19.06" |
GPSLongitude | 11 deg 19' 19.06" E |
GPSLongitudeRef | East |
GPSPosition | 61 deg 15' 37.33" N, 11 deg 19' 19.06" E |
GPSVersionID | 2.3.0.0 |
GrainAmount | 0 |
GreenHue | -9 |
GreenSaturation | 0 |
HasCrop | False |
HasSettings | True |
Highlights2012 | -61 |
HueAdjustmentAqua | 0 |
HueAdjustmentBlue | -5 |
HueAdjustmentGreen | 0 |
HueAdjustmentMagenta | 0 |
HueAdjustmentOrange | 0 |
HueAdjustmentPurple | 0 |
HueAdjustmentRed | +24 |
HueAdjustmentYellow | -33 |
HyperfocalDistance | 1.28 m |
ImageHeight | 3032 |
ImageSize | 4048x3032 |
ImageWidth | 4048 |
ISO | 100 |
Latitude | 61 deg 15' 37.41" N |
LensManualDistortionAmount | 0 |
LensProfileEnable | 0 |
LensProfileSetup | LensDefaults |
LightSource | Unknown |
LightValue | 8.3 |
Longitude | 11 deg 19' 19.07" E |
LookName | |
LuminanceAdjustmentAqua | -22 |
LuminanceAdjustmentBlue | -26 |
LuminanceAdjustmentGreen | 0 |
LuminanceAdjustmentMagenta | 0 |
LuminanceAdjustmentOrange | -12 |
LuminanceAdjustmentPurple | -13 |
LuminanceAdjustmentRed | -9 |
LuminanceAdjustmentYellow | -12 |
LuminanceNoiseReductionContrast | 0 |
LuminanceNoiseReductionDetail | 50 |
LuminanceSmoothing | 16 |
Make | DJI |
MaxApertureValue | 2.8 |
Megapixels | 12.3 |
MeteringMode | Average |
Model | FC2103 |
ModifyDate (1) | 2019:01:12 18:27:11+01:00 |
ModifyDate | 2019:01:12 18:27:11 |
OverrideLookVignette | False |
ParametricDarks | 0 |
ParametricHighlights | 0 |
ParametricHighlightSplit | 75 |
ParametricLights | 0 |
ParametricMidtoneSplit | 50 |
ParametricShadows | 0 |
ParametricShadowSplit | 25 |
PerspectiveAspect | 0 |
PerspectiveHorizontal | 0 |
PerspectiveRotate | 0.0 |
PerspectiveScale | 100 |
PerspectiveUpright | 0 |
PerspectiveVertical | 0 |
PerspectiveX | 0.00 |
PerspectiveY | 0.00 |
PostCropVignetteAmount | 0 |
ProcessVersion | 10.0 |
ProfileDescription | sRGB IEC61966-2.1 |
Rating | 5 |
RawFileName | |
RedHue | +16 |
RedSaturation | -19 |
RelativeAltitude | +117.10 |
Saturation (1) | -2 |
Saturation | Normal |
SaturationAdjustmentAqua | -23 |
SaturationAdjustmentBlue | -44 |
SaturationAdjustmentGreen | 0 |
SaturationAdjustmentMagenta | -23 |
SaturationAdjustmentOrange | -2 |
SaturationAdjustmentPurple | -38 |
SaturationAdjustmentRed | 0 |
SaturationAdjustmentYellow | 0 |
ScaleFactor35efl | 5.3 |
SceneCaptureType | Standard |
SceneType | Directly photographed |
SelfData | DJI Self data |
Shadows2012 | +30 |
ShadowTint | 0 |
SharpenDetail | 25 |
SharpenEdgeMasking | 63 |
SharpenRadius | +1.0 |
Sharpness (1) | 40 |
Sharpness | Normal |
ShutterSpeed | 1/40 |
ShutterSpeedValue | 1/40 |
Software | Adobe Photoshop Lightroom Classic 7.5 (Macintosh) |
SplitToningBalance | 0 |
SplitToningHighlightHue | 0 |
SplitToningHighlightSaturation | 0 |
SplitToningShadowHue | 0 |
SplitToningShadowSaturation | 0 |
SubjectDistanceRange | Unknown |
Tint | -13 |
ToneCurve | 0, 0, 255, 255 |
ToneCurveBlue | 0, 0, 255, 255 |
ToneCurveGreen | 0, 0, 255, 255 |
ToneCurveName | Linear |
ToneCurveName2012 | Custom |
ToneCurvePV2012 | 0, 0, 37, 34, 65, 70, 94, 121, 182, 217, 221, 239, 252, 250 |
ToneCurvePV2012Blue | 0, 0, 53, 52, 112, 106, 189, 191, 255, 255 |
ToneCurvePV2012Green | 0, 0, 59, 57, 124, 125, 184, 189, 218, 220, 255, 255 |
ToneCurvePV2012Red | 0, 0, 60, 57, 151, 155, 187, 189, 215, 211, 255, 250 |
ToneCurveRed | 0, 0, 255, 255 |
ToneMapStrength | 0 |
Version | 10.5 |
Vibrance | +15 |
VignetteAmount | 0 |
WhiteBalance (1) | As Shot |
WhiteBalance | Auto |
Whites2012 | +43 |