Felt | Verdi |
AlreadyApplied | True |
Aperture | 7.1 |
ApertureValue | 7.1 |
BitsPerSample (1) | 8, 8, 8 |
BitsPerSample | 8 |
BlueHue | 0 |
BlueSaturation | 0 |
Brightness | 0 |
By-line | Tonny Froyen Photography |
CameraProfile | Embedded |
CaptionWriter | I hope you would enjoy my pictures as much as I enjoy taking them. Some photographs have been taken a day ago and some have been taken a couple of months or even years ago, most of the photographs are taken in Norway. |
CFAPattern | [Red,Green][Green,Blue] |
ChromaticAberrationB | 0 |
ChromaticAberrationR | 0 |
CircleOfConfusion | 0.020 mm |
Clarity | +10 |
ColorComponents | 3 |
ColorMode | RGB |
ColorNoiseReduction | 0 |
ColorSpace | sRGB |
ColorTransform | YCbCr |
Contrast (1) | 0 |
Contrast | Normal |
ConvertToGrayscale | False |
copyright Tonny froyen
copyright Tonny Roger Frøyen
copyright tonny.froyen
copyright tonny.froyen |
copyright tonnyfroyen
CopyrightFlag | True |
CopyrightNotice | copyright tonnyfroyen.com
CreateDate (1) | 2015:08:11 13:59:02.10+02:00 |
CreateDate | 2015:08:11 13:59:02 |
Creator | Tonny Froyen Photography |
CreatorCity | Molde |
CreatorCountry | Norway |
CreatorTool | Adobe Photoshop CS5 Windows |
CreatorWorkEmail | tonny.froyen@live.com |
CreatorWorkURL | http://www.tonnyfroyen.com
CustomRendered | Normal |
DateCreated (1) | 2015:08:11 13:59:02.001 |
DateCreated | 2015:08:11 |
DateTimeDigitized | 2015:08:11 13:59:02.10+02:00 |
DateTimeOriginal (1) | 2015:08:11 13:59:02.10+02:00 |
DateTimeOriginal | 2015:08:11 13:59:02 |
Defringe | 0 |
DigitalZoomRatio | 1 |
DOF | 0.22 m (2.88 - 3.11 m) |
ExifImageHeight | 3264 |
ExifImageWidth | 4928 |
Exposure | 0.00 |
ExposureCompensation | 0 |
ExposureMode | Auto |
ExposureProgram | Not Defined |
ExposureTime | 1/200 |
FillLight | 0 |
Flash | Auto, Did not fire |
FlashFired | False |
FlashFunction | False |
FlashMode | Auto |
FlashRedEyeMode | False |
FlashReturn | No return detection |
FNumber | 7.1 |
FocalLength | 105.0 mm |
FocalLength35efl | 105.0 mm (35 mm equivalent: 157.0 mm) |
FocalLengthIn35mmFormat | 157 mm |
Format | image/jpeg |
FOV | 13.1 deg |
GainControl | None |
GrainAmount | 0 |
GreenHue | 0 |
GreenSaturation | 0 |
HasCrop | False |
HasSettings | True |
HierarchicalSubject | Macro, Macro|Flower, Land|Norway, Land|Norway|Molde |
HighlightRecovery | 0 |
https://500px.com/tonnyfroyen/
https://no.pinterest.com/tonnyfroyen/
https://twitter.com/tonnyfroyen
https://www.deviantart.com/tonnyfroyen |
https://www.facebook.com/Tonny.Froyen
https://www.flickr.com/photos/tonnyfroyen/
https://www.instagram.com/tonny.froyen/
HueAdjustmentAqua | 0 |
HueAdjustmentBlue | 0 |
HueAdjustmentGreen | 0 |
HueAdjustmentMagenta | 0 |
HueAdjustmentOrange | 0 |
HueAdjustmentPurple | 0 |
HueAdjustmentRed | 0 |
HueAdjustmentYellow | 0 |
HyperfocalDistance | 77.28 m |
ICCProfileName | sRGB IEC61966-2.1 |
ImageHeight | 3264 |
ImageNumber | 5820 |
ImageSize | 4928x3264 |
ImageWidth | 4928 |
IncrementalTemperature | 0 |
IncrementalTint | 0 |
ISO | 200 |
Keywords | macro, nature, rose, roses, rosegarden, macrophotography, photography, flowersandmacro, macro_flower, bokeh blossom, Art, tonnyfroyen, Norway, closeup, blooming, Molde, picoftheday, photo, Flower, Flowers, petals, beautiful, macroflower, macrolove, macroandflora, macronature, love, garden, flowershot, portrait |
Lens | 55.0-200.0 mm f/4.0-5.6 |
LensID (1) | 168 |
LensID | Unknown (168) 55-200mm |
LensInfo | 55-200mm f/4-5.6 |
LightSource | Unknown |
LightValue | 12.3 |
LuminanceAdjustmentAqua | 0 |
LuminanceAdjustmentBlue | 0 |
LuminanceAdjustmentGreen | 0 |
LuminanceAdjustmentMagenta | 0 |
LuminanceAdjustmentOrange | 0 |
LuminanceAdjustmentPurple | 0 |
LuminanceAdjustmentRed | 0 |
LuminanceAdjustmentYellow | 0 |
LuminanceSmoothing | 0 |
Make | NIKON CORPORATION |
Marked | True |
MaxApertureValue | 4.6 |
Megapixels | 16.1 |
MeteringMode | Multi-segment |
Model | NIKON D5100 |
ModifyDate (1) | 2020:10:11 11:32:27+02:00 |
ModifyDate | 2020:10:11 11:32:27 |
Orientation | Horizontal (normal) |
ParametricDarks | 0 |
ParametricHighlights | 0 |
ParametricHighlightSplit | 75 |
ParametricLights | 0 |
ParametricMidtoneSplit | 50 |
ParametricShadows | 0 |
ParametricShadowSplit | 25 |
PhotometricInterpretation | RGB |
PostCropVignetteAmount | 0 |
ProcessVersion | 5.7 |
ProfileDescription | sRGB IEC61966-2.1 |
Rating | 0 |
RawFileName | Yellow rose 28318381330_1dfe45484f_o.jpg |
RedHue | 0 |
RedSaturation | 0 |
Rights | copyright tonnyfroyen.com
SamplesPerPixel | 3 |
Saturation (1) | 0 |
Saturation | Normal |
SaturationAdjustmentAqua | 0 |
SaturationAdjustmentBlue | 0 |
SaturationAdjustmentGreen | 0 |
SaturationAdjustmentMagenta | 0 |
SaturationAdjustmentOrange | 0 |
SaturationAdjustmentPurple | 0 |
SaturationAdjustmentRed | 0 |
SaturationAdjustmentYellow | 0 |
ScaleFactor35efl | 1.5 |
SceneCaptureType | Standard |
SceneType | Directly photographed |
SensingMethod | One-chip color area |
Shadows | 0 |
ShadowTint | 0 |
SharpenDetail | 25 |
SharpenEdgeMasking | 0 |
SharpenRadius | +1.0 |
Sharpness (1) | 0 |
Sharpness | Normal |
ShutterSpeed | 1/200 |
ShutterSpeedValue | 1/200 |
Software | Adobe Photoshop CS5 Windows |
SplitToningBalance | 0 |
SplitToningHighlightHue | 0 |
SplitToningHighlightSaturation | 0 |
SplitToningShadowHue | 0 |
SplitToningShadowSaturation | 0 |
Subject | macro, nature, rose, roses, rosegarden, macrophotography, photography, flowersandmacro, macro_flower, bokeh blossom, Art, tonnyfroyen, Norway, closeup, blooming, Molde, picoftheday, photo, Flower, Flowers, petals, beautiful, macroflower, macrolove, macroandflora, macronature, love, garden, flowershot, portrait |
SubjectDistance | 2.99 m |
SubjectDistanceRange | Unknown |
ToneCurve | 0, 0, 255, 255 |
ToneCurveName | Linear |
URL_List | |
Version | 6.0 |
Vibrance | +15 |
VignetteAmount | 0 |
WhiteBalance (1) | As Shot |
WhiteBalance | Auto |
Writer-Editor | I hope you would enjoy my pictu |