Felt | Verdi |
AlreadyApplied | True |
Aperture | 5.6 |
ApertureValue | 5.6 |
ApproximateFocusDistance | 1.24 |
AutoLateralCA | 0 |
BitsPerSample | 8 |
Blacks2012 | 0 |
BlueHue | 0 |
BlueSaturation | 0 |
CameraProfile | Embedded |
CircleOfConfusion | 0.030 mm |
Clarity2012 | +10 |
ColorComponents | 3 |
ColorGradeBlending | 50 |
ColorGradeGlobalHue | 0 |
ColorGradeGlobalLum | 0 |
ColorGradeGlobalSat | 0 |
ColorGradeHighlightLum | 0 |
ColorGradeMidtoneHue | 0 |
ColorGradeMidtoneLum | 0 |
ColorGradeMidtoneSat | 0 |
ColorGradeShadowLum | 0 |
ColorNoiseReduction | 0 |
ColorSpace (1) | Uncalibrated |
ColorSpace | sRGB |
ColorTransform | YCbCr |
CompatibleVersion | 251658240 |
Contrast2012 | 0 |
CreateDate (1) | 2023:05:13 16:05:26.54+01:00 |
CreateDate | 2023:05:13 16:05:26 |
CreatorTool | Adobe Photoshop Lightroom Classic 12.3 (Windows) |
CropAngle | 0 |
CropBottom | 1 |
CropConstrainToWarp | 0 |
CropLeft | 0 |
CropRight | 1 |
CropTop | 0 |
CustomRendered | Normal |
DateCreated (1) | 2023:05:13 |
DateCreated | 2023:05:13 16:05:26.054+01:00 |
DateTimeOriginal | 2023:05:13 16:05:26 |
Dehaze | 0 |
DistortionCorrectionAlreadyApplied | True |
DOF | 0.004 m (1.238 - 1.242 m) |
EnhanceDenoiseAlreadyApplied | True |
EnhanceDenoiseLumaAmount | 50 |
EnhanceDenoiseVersion | 251658240 |
EnhanceDetailsAlreadyApplied | True |
EnhanceDetailsVersion | 218300416 |
Exposure2012 | 0.00 |
ExposureCompensation | 0 |
ExposureMode | Auto |
ExposureProgram | Aperture-priority AE |
ExposureTime | 1/2500 |
Firmware | 1.8.1 |
Flash | No Flash |
FlashCompensation | 0 |
FNumber | 5.6 |
FocalLength | 324.0 mm |
FocalLength35efl | 324.0 mm (35 mm equivalent: 323.5 mm) |
Format | image/jpeg |
FOV | 6.4 deg |
GrainAmount | 0 |
GrayMixerAqua | -16 |
GrayMixerBlue | +15 |
GrayMixerGreen | -28 |
GrayMixerMagenta | +4 |
GrayMixerOrange | -21 |
GrayMixerPurple | +19 |
GrayMixerRed | -12 |
GrayMixerYellow | -25 |
GreenHue | 0 |
GreenSaturation | 0 |
HasCrop | False |
HasSettings | True |
Highlights2012 | 0 |
HyperfocalDistance | 622.95 m |
ImageHeight | 960 |
ImageNumber | 0 |
ImageSize | 1200x960 |
ImageWidth | 1200 |
IncrementalTemperature | 0 |
IncrementalTint | 0 |
ISO | 800 |
LateralChromaticAberrationCorrectionAlreadyApplied | True |
Lens | RF100-500mm F4.5-7.1 L IS USM |
LensID (1) | 61182 |
LensID | Canon RF 50mm F1.2 L USM + 2x |
LensInfo (2) | 100 |
LensInfo | 100-500mm f/? |
LensManualDistortionAmount | 0 |
LensModel | RF100-500mm F4.5-7.1 L IS USM |
LensProfileEnable | 0 |
LensSerialNumber | 0314001307 |
LightValue | 13.3 |
LookAmount | 1 |
LookCluster | Adobe |
LookGroup | B&W |
LookName | B&W 10 |
LookParametersClarity2012 | +8 |
LookParametersContrast2012 | +8 |
LookParametersConvertToGrayscale | True |
LookParametersLookTable | AC0E24EFC658D3BD29B430044AE2FB7C |
LookParametersProcessVersion | 11.0 |
LookParametersToneCurvePV2012 | 0, 0, 64, 75, 192, 175, 255, 255 |
LookParametersToneCurvePV2012Blue | 0, 0, 255, 255 |
LookParametersToneCurvePV2012Green | 0, 0, 255, 255 |
LookParametersToneCurvePV2012Red | 0, 0, 255, 255 |
LookParametersVersion | 15.3 |
LookSortName | B&W 10 |
LookSupportsMonochrome | false |
LuminanceSmoothing | 0 |
Make | Canon |
MaxApertureValue | 5.7 |
Megapixels | 1.2 |
MeteringMode | Center-weighted average |
ModifyDate (1) | 2023:05:20 21:10:07+02:00 |
ModifyDate | 2023:05:20 21:10:07 |
OverrideLookVignette | False |
ParametricDarks | 0 |
ParametricHighlights | 0 |
ParametricHighlightSplit | 75 |
ParametricLights | 0 |
ParametricMidtoneSplit | 50 |
ParametricShadows | 0 |
ParametricShadowSplit | 25 |
PerspectiveAspect | 0 |
PerspectiveHorizontal | 0 |
PerspectiveRotate | 0.0 |
PerspectiveScale | 100 |
PerspectiveUpright | 0 |
PerspectiveVertical | 0 |
PerspectiveX | 0.00 |
PerspectiveY | 0.00 |
PostCropVignetteAmount | -21 |
PostCropVignetteFeather | 50 |
PostCropVignetteHighlightContrast | 0 |
PostCropVignetteMidpoint | 50 |
PostCropVignetteRoundness | 0 |
PostCropVignetteStyle | 1 |
PreservedFileName | 0I5A1281.CR3 |
ProcessVersion | 11.0 |
ProfileDescription | sRGB IEC61966-2.1 |
RawFileName | 0I5A1281-Enhanced-NR-Edit.tif |
RecommendedExposureIndex | 800 |
RedHue | 0 |
RedSaturation | 0 |
ScaleFactor35efl | 1.0 |
SceneCaptureType | Standard |
SensitivityType | Recommended Exposure Index |
SerialNumber | 093023000185 |
Shadows2012 | 0 |
ShadowTint | 0 |
Sharpness | 0 |
ShutterSpeed | 1/2500 |
ShutterSpeedValue | 1/2500 |
Software | Adobe Photoshop Lightroom Classic 12.3 (Windows) |
SplitToningBalance | 0 |
SplitToningHighlightHue | 0 |
SplitToningHighlightSaturation | 0 |
SplitToningShadowHue | 0 |
SplitToningShadowSaturation | 0 |
Texture | 0 |
ToneCurveName2012 | Linear |
ToneCurvePV2012 | 0, 0, 255, 255 |
ToneCurvePV2012Blue | 0, 0, 255, 255 |
ToneCurvePV2012Green | 0, 0, 255, 255 |
ToneCurvePV2012Red | 0, 0, 255, 255 |
Version | 15.3 |
VignetteAmount | 0 |
VignetteCorrectionAlreadyApplied | True |
WhiteBalance (1) | As Shot |
WhiteBalance | Auto |
Whites2012 | +30 |