Felt | Verdi |
AlreadyApplied | True |
Aperture | 8.0 |
ApertureValue | 8.0 |
BitsPerSample | 8 |
BlueHue | 0 |
BlueSaturation | 0 |
Brightness | +50 |
CameraProfile | ACR 4.4 |
ChromaticAberrationB | 0 |
ChromaticAberrationR | 0 |
CircleOfConfusion | 0.030 mm |
Clarity | +43 |
ColorComponents | 1 |
ColorNoiseReduction | 25 |
ColorTemperature | 5450 |
Contrast | +79 |
ConvertToGrayscale | True |
CreateDate (1) | 2011:06:24 14:54:20+02:00 |
CreateDate | 2011:06:24 14:54:20 |
CreatorTool | Adobe Photoshop Lightroom |
CropAngle | 5.1517 |
CropBottom | 1 |
CropHeight | 964 |
CropLeft | 0.294782 |
CropRight | 0.936591 |
CropTop | 0 |
CropUnit | pixels |
CropWidth | 1111 |
CustomRendered | Normal |
DateTimeDigitized | 2011:06:24 14:54:20+02:00 |
DateTimeOriginal (1) | 2011:06:24 14:54:20+02:00 |
DateTimeOriginal | 2011:06:24 14:54:20 |
Defringe | 0 |
ExifImageHeight | 1111 |
ExifImageWidth | 964 |
Exposure | 0.00 |
ExposureCompensation | 0 |
ExposureMode | Auto |
ExposureProgram | Aperture-priority AE |
ExposureTime | 1/250 |
FillLight | 22 |
Firmware | 1.1.0 |
Flash | Off, Did not fire |
FlashCompensation | 0 |
FlashFired | False |
FlashFunction | False |
FlashMode | Off |
FlashRedEyeMode | False |
FlashReturn | No return detection |
FNumber | 8.0 |
FocalLength | 47.0 mm |
FocalLength35efl | 47.0 mm (35 mm equivalent: 47.1 mm) |
FOV | 41.8 deg |
GradientBasedCorrActive | true |
GradientBasedCorrAmount | 1.000000 |
GradientBasedCorrBrightness (2) | 0.176471 |
GradientBasedCorrBrightness (3) | -1.000000 |
GradientBasedCorrBrightness | -0.152941 |
GradientBasedCorrClarity | -0.011765 |
GradientBasedCorrContrast | 0.000000 |
GradientBasedCorrExposure | 0.000000 |
GradientBasedCorrHue | 240.000000 |
GradientBasedCorrMaskFullX (2) | 1.004520 |
GradientBasedCorrMaskFullX | 0.226852 |
GradientBasedCorrMaskFullY (1) | 0.475113 |
GradientBasedCorrMaskFullY (2) | 0.642534 |
GradientBasedCorrMaskFullY (3) | 0.882353 |
GradientBasedCorrMaskFullY | 0.565611 |
GradientBasedCorrMaskValue | 1.000000 |
GradientBasedCorrMaskWhat | Mask/Gradient |
GradientBasedCorrMaskZeroX (1) | 0.975886 |
GradientBasedCorrMaskZeroX (2) | 0.383591 |
GradientBasedCorrMaskZeroX (3) | 0.632265 |
GradientBasedCorrMaskZeroX | 0.698578 |
GradientBasedCorrMaskZeroY (1) | 0.771493 |
GradientBasedCorrMaskZeroY (2) | 0.380090 |
GradientBasedCorrMaskZeroY (3) | 0.696833 |
GradientBasedCorrMaskZeroY | 0.608597 |
GradientBasedCorrSaturation (1) | 0.058824 |
GradientBasedCorrSaturation | 0.000000 |
GradientBasedCorrSharpness | 0.058824 |
GradientBasedCorrWhat | Correction |
GrayMixerAqua | -19 |
GrayMixerBlue | +8 |
GrayMixerGreen | -27 |
GrayMixerMagenta | +4 |
GrayMixerOrange | -18 |
GrayMixerPurple | +15 |
GrayMixerRed | -9 |
GrayMixerYellow | -22 |
GreenHue | 0 |
GreenSaturation | 0 |
HasCrop | True |
HasSettings | True |
HighlightRecovery | 21 |
HyperfocalDistance | 9.21 m |
ImageHeight | 1111 |
ImageNumber | 62 |
ImageSize | 964x1111 |
ImageWidth | 964 |
ISO | 100 |
Lens | EF24-105mm f/4L IS USM |
LensInfo | 24-105mm f/? |
LightValue | 14.0 |
LuminanceSmoothing | 0 |
Make | Canon |
MaxApertureValue | 4.0 |
Megapixels | 1.1 |
MeteringMode | Multi-segment |
Model | Canon EOS 5D |
ModifyDate (1) | 2011:06:27 22:05:03+02:00 |
ModifyDate | 2011:06:27 22:05:03 |
PaintCorrectionActive | true |
PaintCorrectionAmount | 1.000000 |
PaintCorrectionBrightness (1) | 0.200000 |
PaintCorrectionBrightness | 0.082353 |
PaintCorrectionClarity (1) | 0.811765 |
PaintCorrectionClarity | -0.011765 |
PaintCorrectionContrast | 0.000000 |
PaintCorrectionExposure | 0.000000 |
PaintCorrectionHue | 240.000000 |
PaintCorrectionMaskCenterWeight | 0.009996 |
PaintCorrectionMaskFlow | 0.883529 |
PaintCorrectionMaskRadius (2) | 0.047863 |
PaintCorrectionMaskRadius | 0.007271 |
PaintCorrectionMaskValue | 1.000000 |
PaintCorrectionMaskWhat | Mask/Paint |
PaintCorrectionSaturation (3) | 0.058824 |
PaintCorrectionSaturation | 0.000000 |
PaintCorrectionSharpness | 0.058824 |
PaintCorrectionWhat | Correction |
ParametricDarks | 0 |
ParametricHighlights | 0 |
ParametricHighlightSplit | 75 |
ParametricLights | 0 |
ParametricMidtoneSplit | 50 |
ParametricShadows | 0 |
ParametricShadowSplit | 25 |
PostCropVignetteAmount | 0 |
ProfileDescription | Adobe RGB (1998) |
RedHue | 0 |
RedSaturation | 0 |
ScaleFactor35efl | 1.0 |
SceneCaptureType | Standard |
SerialNumber | 2721201972 |
Shadows | 5 |
ShadowTint | 0 |
SharpenDetail | 59 |
SharpenEdgeMasking | 51 |
SharpenRadius | +0.7 |
Sharpness | 91 |
ShutterSpeed | 1/250 |
ShutterSpeedValue | 1/250 |
SplitToningBalance | 0 |
SplitToningHighlightHue | 0 |
SplitToningHighlightSaturation | 0 |
SplitToningShadowHue | 0 |
SplitToningShadowSaturation | 0 |
Tint | +2 |
ToneCurve | 0, 0, 32, 22, 64, 56, 128, 128, 192, 196, 255, 255 |
ToneCurveName | Medium Contrast |
Version | 4.5 |
VignetteAmount | 0 |
WhiteBalance (2) | As Shot |
WhiteBalance | Auto |