Felt | Verdi |
AlreadyApplied | True |
BitsPerSample | 8 |
BlueHue | 0 |
BlueSaturation | 0 |
Brightness | +6 |
CameraProfile | Embedded |
ChromaticAberrationB | 0 |
ChromaticAberrationR | 0 |
Clarity | +28 |
ColorComponents | 1 |
ColorNoiseReduction | 0 |
ColorSpace | sRGB |
Contrast | 0 |
ConvertToGrayscale | True |
CreateDate | 2011:04:30 02:10:04+02:00 |
CreatorTool | Adobe Photoshop Lightroom |
CropAngle | 0 |
CropBottom | 0.961957 |
CropHeight | 663 |
CropLeft | 0.017442 |
CropRight | 0.976744 |
CropTop | 0.032609 |
CropUnit | pixels |
CropWidth | 1280 |
Defringe | 0 |
ExifImageHeight | 663 |
ExifImageWidth | 1280 |
Exposure | 0.00 |
FillLight | 0 |
Format | image/tiff |
GradientBasedCorrActive | true |
GradientBasedCorrAmount | 1.000000 |
GradientBasedCorrBrightness (1) | -0.435294 |
GradientBasedCorrBrightness | -0.247059 |
GradientBasedCorrClarity | 0.011765 |
GradientBasedCorrContrast | 0.000000 |
GradientBasedCorrExposure | 0.000000 |
GradientBasedCorrHue | 7.000000 |
GradientBasedCorrMaskFullX (1) | 0.099708 |
GradientBasedCorrMaskFullX | 0.007682 |
GradientBasedCorrMaskFullY (1) | 0.969789 |
GradientBasedCorrMaskFullY | 0.886252 |
GradientBasedCorrMaskValue | 1.000000 |
GradientBasedCorrMaskWhat | Mask/Gradient |
GradientBasedCorrMaskZeroX (1) | 0.102496 |
GradientBasedCorrMaskZeroX | 0.053695 |
GradientBasedCorrMaskZeroY (1) | 0.862757 |
GradientBasedCorrMaskZeroY | 0.878420 |
GradientBasedCorrSaturation (3) | -0.035294 |
GradientBasedCorrSaturation | 0.000000 |
GradientBasedCorrSharpness | 0.000000 |
GradientBasedCorrWhat | Correction |
GrayMixerAqua | -18 |
GrayMixerBlue | +9 |
GrayMixerGreen | -27 |
GrayMixerMagenta | +4 |
GrayMixerOrange | -19 |
GrayMixerPurple | +15 |
GrayMixerRed | -10 |
GrayMixerYellow | -23 |
GreenHue | 0 |
GreenSaturation | 0 |
HasCrop | True |
HasSettings | True |
HighlightRecovery | 0 |
ImageHeight | 663 |
ImageSize | 1280x663 |
ImageWidth | 1280 |
IncrementalTemperature | +23 |
IncrementalTint | 0 |
LuminanceSmoothing | 0 |
Megapixels | 0.849 |
ModifyDate (1) | 2011:09:09 17:31:19+02:00 |
ModifyDate | 2011:09:09 17:31:19 |
PaintCorrectionActive | true |
PaintCorrectionAmount | 1.000000 |
PaintCorrectionBrightness | -0.082353 |
PaintCorrectionClarity | 0.011765 |
PaintCorrectionContrast | 0.000000 |
PaintCorrectionExposure | 0.000000 |
PaintCorrectionHue | 7.000000 |
PaintCorrectionMaskCenterWeight | 0.009996 |
PaintCorrectionMaskFlow | 0.883529 |
PaintCorrectionMaskRadius | 0.012117 |
PaintCorrectionMaskValue | 1.000000 |
PaintCorrectionMaskWhat | Mask/Paint |
PaintCorrectionSaturation (1) | -0.035294 |
PaintCorrectionSaturation | 0.000000 |
PaintCorrectionSharpness | 0.000000 |
PaintCorrectionWhat | Correction |
ParametricDarks | -32 |
ParametricHighlights | 0 |
ParametricHighlightSplit | 75 |
ParametricLights | 0 |
ParametricMidtoneSplit | 50 |
ParametricShadows | 0 |
ParametricShadowSplit | 25 |
PostCropVignetteAmount | +2 |
PostCropVignetteFeather | 50 |
PostCropVignetteMidpoint | 50 |
PostCropVignetteRoundness | 0 |
ProfileDescription | Adobe RGB (1998) |
RedHue | 0 |
RedSaturation | 0 |
Shadows | 0 |
ShadowTint | 0 |
SharpenDetail | 25 |
SharpenEdgeMasking | 0 |
SharpenRadius | +1.0 |
Sharpness | 0 |
Software | Adobe Photoshop CS4 Macintosh |
SplitToningBalance | 0 |
SplitToningHighlightHue | 0 |
SplitToningHighlightSaturation | 0 |
SplitToningShadowHue | 0 |
SplitToningShadowSaturation | 0 |
ToneCurve | 0, 0, 255, 255 |
ToneCurveName | Linear |
Version | 4.5 |
VignetteAmount | 0 |
WhiteBalance | Custom |