Felt | Verdi |
AlreadyApplied | True |
Aperture | 2.8 |
ApertureValue | 2.8 |
ApproximateFocusDistance | 17.8 |
Artist | Tom Eikrem |
BitsPerSample | 8 |
BlueHue | 0 |
BlueSaturation | 0 |
Brightness | +34 |
By-line | Tom Eikrem |
CameraProfile | Adobe Standard |
ChromaticAberrationB | 0 |
ChromaticAberrationR | 0 |
CircleOfConfusion | 0.031 mm |
Clarity | +56 |
ColorComponents | 3 |
ColorMode | RGB |
ColorNoiseReduction | 10 |
ColorNoiseReductionDetail | 50 |
ColorSpace | Uncalibrated |
ColorTemperature | 4023 |
Contrast | +27 |
ConvertToGrayscale | False |
Copyright | Tom Eikrem |
CopyrightNotice | Tom Eikrem |
CreateDate (1) | 2011:07:08 20:35:35.16 |
CreateDate | 2011:07:08 20:35:35 |
Creator | Tom Eikrem |
CreatorTool | Adobe Photoshop Lightroom 3.6 (Windows) |
CreatorWorkTelephone | 004748223077 |
CropAngle | -0.386727 |
CropBottom | 0.989977 |
CropConstrainToWarp | 0 |
CropHeight | 3706 |
CropLeft | 0.002784 |
CropRight | 0.997216 |
CropTop | 0.010023 |
CropUnit | pixels |
CropWidth | 5560 |
CustomRendered | Normal |
DateCreated | 2011:07:08 |
DateTimeDigitized | 2011:07:08 20:35:35+02:00 |
DateTimeOriginal (1) | 2011:07:08 20:35:35+02:00 |
DateTimeOriginal | 2011:07:08 20:35:35 |
Defringe | 0 |
DerivedFrom | |
DOF | 12.30 m (13.57 - 25.87 m) |
ExifImageHeight | 472 |
ExifImageWidth | 725 |
Exposure | +1.06 |
ExposureCompensation | +2/3 |
ExposureMode | Auto |
ExposureProgram | Aperture-priority AE |
ExposureTime | 1/25 |
FillLight | 76 |
Firmware | 2.0.8 |
Flash | Off, Did not fire |
FlashCompensation | 0 |
FlashFired | False |
FlashFunction | False |
FlashMode | Off |
FlashRedEyeMode | False |
FlashReturn | No return detection |
FNumber | 2.8 |
FocalLength | 70.0 mm |
FocalLength35efl | 70.0 mm (35 mm equivalent: 68.3 mm) |
Format | image/jpeg |
FOV | 29.5 deg |
GrainAmount | 0 |
GreenHue | 0 |
GreenSaturation | 0 |
HasCrop | True |
HasSettings | True |
HighlightRecovery | 30 |
HueAdjustmentAqua | 0 |
HueAdjustmentBlue | 0 |
HueAdjustmentGreen | 0 |
HueAdjustmentMagenta | 0 |
HueAdjustmentOrange | 0 |
HueAdjustmentPurple | 0 |
HueAdjustmentRed | 0 |
HueAdjustmentYellow | 0 |
HyperfocalDistance | 56.84 m |
ICCProfileName | Adobe RGB (1998) |
ImageHeight | 472 |
ImageNumber | 0 |
ImageSize | 725x472 |
ImageWidth | 725 |
ISO | 250 |
Lens | EF24-70mm f/2.8L USM |
LensID (1) | 230 |
LensID | Canon EF 24-70mm f/2.8L USM |
LensInfo | 24-70mm f/? |
LensManualDistortionAmount | 0 |
LensModel | EF24-70mm f/2.8L USM |
LensProfileEnable | 0 |
LensProfileSetup | LensDefaults |
LightValue | 6.3 |
LuminanceAdjustmentAqua | 0 |
LuminanceAdjustmentBlue | 0 |
LuminanceAdjustmentGreen | 0 |
LuminanceAdjustmentMagenta | 0 |
LuminanceAdjustmentOrange | -1 |
LuminanceAdjustmentPurple | 0 |
LuminanceAdjustmentRed | 0 |
LuminanceAdjustmentYellow | 0 |
LuminanceNoiseReductionContrast | 0 |
LuminanceNoiseReductionDetail | 50 |
LuminanceSmoothing | 22 |
Make | Canon |
MaxApertureValue | 2.8 |
Megapixels | 0.342 |
MeteringMode | Multi-segment |
Model | Canon EOS 5D Mark II |
ModifyDate (1) | 2012:02:20 15:42:57+01:00 |
ModifyDate | 2012:02:20 15:42:57 |
Orientation | Horizontal (normal) |
ParametricDarks | -24 |
ParametricHighlights | +92 |
ParametricHighlightSplit | 75 |
ParametricLights | -3 |
ParametricMidtoneSplit | 50 |
ParametricShadows | +33 |
ParametricShadowSplit | 25 |
PerspectiveHorizontal | 0 |
PerspectiveRotate | 0.0 |
PerspectiveScale | 100 |
PerspectiveVertical | 0 |
PostCropVignetteAmount | -13 |
PostCropVignetteFeather | 50 |
PostCropVignetteHighlightContrast | 0 |
PostCropVignetteMidpoint | 50 |
PostCropVignetteRoundness | 0 |
PostCropVignetteStyle | 1 |
ProcessVersion | 5.7 |
ProfileDescription | Adobe RGB (1998) |
RedHue | 0 |
RedSaturation | 0 |
Rights | Tom Eikrem |
Saturation | -100 |
SaturationAdjustmentAqua | 0 |
SaturationAdjustmentBlue | 0 |
SaturationAdjustmentGreen | 0 |
SaturationAdjustmentMagenta | 0 |
SaturationAdjustmentOrange | -10 |
SaturationAdjustmentPurple | 0 |
SaturationAdjustmentRed | -7 |
SaturationAdjustmentYellow | 0 |
ScaleFactor35efl | 1.0 |
SceneCaptureType | Standard |
SerialNumber | 2931502669 |
Shadows | 40 |
ShadowTint | 0 |
SharpenDetail | 60 |
SharpenEdgeMasking | 0 |
SharpenRadius | +1.0 |
Sharpness | 33 |
ShutterSpeed | 1/25 |
ShutterSpeedValue | 1/25 |
Software | Adobe Photoshop Elements 9.0 Windows |
SplitToningBalance | +29 |
SplitToningHighlightHue | 41 |
SplitToningHighlightSaturation | 18 |
SplitToningShadowHue | 244 |
SplitToningShadowSaturation | 61 |
SubjectDistance | 17.8 m |
Tint | -99 |
ToneCurve | 0, 0, 32, 22, 64, 56, 128, 128, 192, 196, 255, 255 |
ToneCurveName | Medium Contrast |
URL_List | |
Version | 6.6 |
Vibrance | 0 |
VignetteAmount | 0 |
WhiteBalance (1) | Custom |
WhiteBalance | Auto |