Felt | Verdi |
AlreadyApplied | True |
Aperture | 11.0 |
ApertureValue | 11.0 |
Artist | O Klevberg |
BitsPerSample | 8 |
BlueHue | 0 |
BlueSaturation | 0 |
Brightness | 0 |
By-line | O Klevberg |
CameraProfile | Embedded |
Caption-Abstract | Feste Soendre julikvelden |
CFAPattern | [Red,Green][Green,Blue] |
ChromaticAberrationB | 0 |
ChromaticAberrationR | 0 |
CircleOfConfusion | 0.030 mm |
Clarity | 0 |
ColorComponents | 3 |
ColorNoiseReduction | 0 |
ColorSpace | sRGB |
Contrast (2) | 0 |
Contrast | Normal |
ConvertToGrayscale | False |
Copyright | O Klevberg |
CopyrightFlag | True |
CopyrightNotice | O Klevberg |
CreateDate (1) | 2012:07:03 20:41:23.05+02:00 |
CreateDate | 2012:07:03 20:41:23 |
Creator | O Klevberg |
CreatorTool | Adobe Photoshop Lightroom |
CropAngle | 0 |
CropBottom | 0.987294 |
CropConstrainToWarp | 1 |
CropHeight | 2760 |
CropLeft | 0.012706 |
CropRight | 0.987294 |
CropTop | 0.012706 |
CropUnit | pixels |
CropWidth | 4148 |
CustomRendered | Normal |
DateTimeDigitized | 2012:07:03 20:41:23.05+02:00 |
DateTimeOriginal (1) | 2012:07:03 20:41:23.05+02:00 |
DateTimeOriginal | 2012:07:03 20:41:23 |
Defringe | 0 |
Description | Feste Soendre julikvelden |
DigitalZoomRatio | 1 |
ExifImageHeight | 2760 |
ExifImageWidth | 4148 |
Exposure | 0.00 |
ExposureCompensation | -1 |
ExposureMode | Auto |
ExposureProgram | Aperture-priority AE |
ExposureTime | 1/160 |
FillLight | 7 |
Flash | No Flash |
FlashFired | False |
FlashFunction | False |
FlashMode | Unknown |
FlashRedEyeMode | False |
FlashReturn | No return detection |
FNumber | 11.0 |
FocalLength | 90.0 mm |
FocalLength35efl | 90.0 mm (35 mm equivalent: 90.0 mm) |
FocalLengthIn35mmFormat | 90 mm |
Format | application/vnd.adobe.photoshop |
FOV | 22.6 deg |
GainControl | None |
GrainAmount | 0 |
GreenHue | 0 |
GreenSaturation | 0 |
HasCrop | True |
HasSettings | True |
HighlightRecovery | 0 |
HueAdjustmentAqua | 0 |
HueAdjustmentBlue | 0 |
HueAdjustmentGreen | 0 |
HueAdjustmentMagenta | 0 |
HueAdjustmentOrange | 0 |
HueAdjustmentPurple | 0 |
HueAdjustmentRed | 0 |
HueAdjustmentYellow | 0 |
HyperfocalDistance | 24.51 m |
ImageDescription | Feste Soendre julikvelden |
ImageHeight | 2760 |
ImageNumber | 14162 |
ImageSize | 4148x2760 |
ImageWidth | 4148 |
IncrementalTemperature | 0 |
IncrementalTint | 0 |
ISO | 200 |
Lens | 90.0 mm f/3.5 |
LensInfo | 90mm f/3.5 |
LensManualDistortionAmount | 0 |
LensModel | 90.0 mm f/3.5 |
LensProfileChromaticAberrationScale | 100 |
LensProfileDistortionScale | 100 |
LensProfileEnable | 1 |
LensProfileFilename | NIKON D3X (Nikon FX 70-200mm f2.8 G IF ED).lcp |
LensProfileName | NIKON D3X - Nikon FX 70-200mm f/2.8 G IF ED |
LensProfileSetup | Custom |
LensProfileVignettingScale | 100 |
LightSource | Unknown |
LightValue | 13.2 |
Location | Feste, Festelandet, Rygge, Ostfold |
LuminanceAdjustmentAqua | 0 |
LuminanceAdjustmentBlue | 0 |
LuminanceAdjustmentGreen | 0 |
LuminanceAdjustmentMagenta | 0 |
LuminanceAdjustmentOrange | 0 |
LuminanceAdjustmentPurple | 0 |
LuminanceAdjustmentRed | 0 |
LuminanceAdjustmentYellow | 0 |
LuminanceNoiseReductionContrast | 0 |
LuminanceNoiseReductionDetail | 50 |
LuminanceSmoothing | 5 |
Make | NIKON CORPORATION |
Marked | True |
MaxApertureValue | 3.5 |
Megapixels | 11.4 |
MeteringMode | Center-weighted average |
Model | NIKON D700 |
ModifyDate (1) | 2012:07:07 17:22:17+02:00 |
ModifyDate | 2012:07:07 17:22:17 |
ObjectName | Paa Festelandet |
ParametricDarks | 0 |
ParametricHighlights | 0 |
ParametricHighlightSplit | 75 |
ParametricLights | 0 |
ParametricMidtoneSplit | 50 |
ParametricShadows | 0 |
ParametricShadowSplit | 25 |
PerspectiveHorizontal | 0 |
PerspectiveRotate | -1.0 |
PerspectiveScale | 100 |
PerspectiveVertical | 0 |
PostCropVignetteAmount | 0 |
ProcessVersion | 5.7 |
ProfileDescription | sRGB IEC61966-2.1 |
RedHue | 0 |
RedSaturation | 0 |
Rights | O Klevberg |
Saturation (2) | 0 |
Saturation | Normal |
SaturationAdjustmentAqua | 0 |
SaturationAdjustmentBlue | 0 |
SaturationAdjustmentGreen | 0 |
SaturationAdjustmentMagenta | 0 |
SaturationAdjustmentOrange | 0 |
SaturationAdjustmentPurple | 0 |
SaturationAdjustmentRed | 0 |
SaturationAdjustmentYellow | 0 |
ScaleFactor35efl | 1.0 |
SceneCaptureType | Standard |
SceneType | Directly photographed |
SensingMethod | One-chip color area |
SensitivityType | Unknown |
SerialNumber | 2034419 |
Shadows | 0 |
ShadowTint | 0 |
SharpenDetail | 25 |
SharpenEdgeMasking | 47 |
SharpenRadius | +0.7 |
Sharpness (2) | 50 |
Sharpness | Normal |
ShutterSpeed | 1/160 |
ShutterSpeedValue | 1/160 |
Software | Ver.1.02 |
SplitToningBalance | 0 |
SplitToningHighlightHue | 0 |
SplitToningHighlightSaturation | 0 |
SplitToningShadowHue | 0 |
SplitToningShadowSaturation | 0 |
Sub-location | Feste, Festelandet, Rygge, Ostfo |
SubjectDistanceRange | Unknown |
Title | Paa Festelandet |
ToneCurve | 0, 0, 255, 255 |
ToneCurveName | Linear |
Version | 6.2 |
Vibrance | 0 |
VignetteAmount | 0 |
WhiteBalance (2) | As Shot |
WhiteBalance | Manual |